BEGIN:VCALENDAR
VERSION:2.0
PRODID:-//SCA Bardic Fun - ECPv6.15.17.1//NONSGML v1.0//EN
CALSCALE:GREGORIAN
METHOD:PUBLISH
X-ORIGINAL-URL:https://bardic.fun
X-WR-CALDESC:Events for SCA Bardic Fun
REFRESH-INTERVAL;VALUE=DURATION:PT1H
X-Robots-Tag:noindex
X-PUBLISHED-TTL:PT1H
BEGIN:VTIMEZONE
TZID:America/Chicago
BEGIN:DAYLIGHT
TZOFFSETFROM:-0600
TZOFFSETTO:-0500
TZNAME:CDT
DTSTART:20250309T080000
END:DAYLIGHT
BEGIN:STANDARD
TZOFFSETFROM:-0500
TZOFFSETTO:-0600
TZNAME:CST
DTSTART:20251102T070000
END:STANDARD
BEGIN:DAYLIGHT
TZOFFSETFROM:-0600
TZOFFSETTO:-0500
TZNAME:CDT
DTSTART:20260308T080000
END:DAYLIGHT
BEGIN:STANDARD
TZOFFSETFROM:-0500
TZOFFSETTO:-0600
TZNAME:CST
DTSTART:20261101T070000
END:STANDARD
BEGIN:DAYLIGHT
TZOFFSETFROM:-0600
TZOFFSETTO:-0500
TZNAME:CDT
DTSTART:20270314T080000
END:DAYLIGHT
BEGIN:STANDARD
TZOFFSETFROM:-0500
TZOFFSETTO:-0600
TZNAME:CST
DTSTART:20271107T070000
END:STANDARD
END:VTIMEZONE
BEGIN:VEVENT
DTSTART;TZID=America/Chicago:20260318T150000
DTEND;TZID=America/Chicago:20260318T200000
DTSTAMP:20260419T085232
CREATED:20260311T041820Z
LAST-MODIFIED:20260311T041820Z
UID:2292-1773846000-1773864000@bardic.fun
SUMMARY:Silent Action Fundraiser for Performing Arts Stage
DESCRIPTION:Come by the Renaissance Village Ca’ d’Oro Salon to bid for items in a silent auction to support the construction of a new Performing Arts Stage for Gulf Wars! Bidding closes at 8 PM.  \nPick up items until 9 PM on Wednesday or Thursday morning 9:30AM – 12 PM. \nTo donate an item\, bring it to Renaissance Village between 10 am and 5 PM Monday/Monday or 10 am and 3 PM Wednesday.
URL:https://bardic.fun/event/silent-action-fundraiser-for-performing-arts-stage
LOCATION:Renaissance Village
END:VEVENT
END:VCALENDAR