BEGIN:VCALENDAR
VERSION:2.0
PRODID:-//SCA Bardic Fun - ECPv6.15.17.1//NONSGML v1.0//EN
CALSCALE:GREGORIAN
METHOD:PUBLISH
X-WR-CALNAME:SCA Bardic Fun
X-ORIGINAL-URL:https://bardic.fun
X-WR-CALDESC:Events for SCA Bardic Fun
REFRESH-INTERVAL;VALUE=DURATION:PT1H
X-Robots-Tag:noindex
X-PUBLISHED-TTL:PT1H
BEGIN:VTIMEZONE
TZID:America/Chicago
BEGIN:DAYLIGHT
TZOFFSETFROM:-0600
TZOFFSETTO:-0500
TZNAME:CDT
DTSTART:20250309T080000
END:DAYLIGHT
BEGIN:STANDARD
TZOFFSETFROM:-0500
TZOFFSETTO:-0600
TZNAME:CST
DTSTART:20251102T070000
END:STANDARD
BEGIN:DAYLIGHT
TZOFFSETFROM:-0600
TZOFFSETTO:-0500
TZNAME:CDT
DTSTART:20260308T080000
END:DAYLIGHT
BEGIN:STANDARD
TZOFFSETFROM:-0500
TZOFFSETTO:-0600
TZNAME:CST
DTSTART:20261101T070000
END:STANDARD
BEGIN:DAYLIGHT
TZOFFSETFROM:-0600
TZOFFSETTO:-0500
TZNAME:CDT
DTSTART:20270314T080000
END:DAYLIGHT
BEGIN:STANDARD
TZOFFSETFROM:-0500
TZOFFSETTO:-0600
TZNAME:CST
DTSTART:20271107T070000
END:STANDARD
END:VTIMEZONE
BEGIN:VEVENT
DTSTART;TZID=America/Chicago:20260320T163000
DTEND;TZID=America/Chicago:20260320T170000
DTSTAMP:20260423T051827
CREATED:20260311T041125Z
LAST-MODIFIED:20260315T181111Z
UID:2278-1774024200-1774026000@bardic.fun
SUMMARY:Known World Choir Performance
DESCRIPTION:Watch the choir perform medieval music that they’ve practiced all week! Join us for rehearsals Mon-Fri 10:00 AM – 11:30 AM to sing with us in the show! \n  \nDo you sing? \nJoin us for rehearsals Mon-Fri 10:00 AM – 11:30 AM to sing with us in the show! \nDownload the music here https://knownworldchoirs.org/gulfwars.phtml \n 
URL:https://bardic.fun/event/known-world-choir-performance
LOCATION:Performing Arts Tent in Renaissance Village
CATEGORIES:Performances
END:VEVENT
BEGIN:VEVENT
DTSTART;TZID=America/Chicago:20260320T170000
DTEND;TZID=America/Chicago:20260320T183000
DTSTAMP:20260423T051827
CREATED:20260311T041443Z
LAST-MODIFIED:20260311T041444Z
UID:2284-1774026000-1774031400@bardic.fun
SUMMARY:"The Ceremony" Commedia dell'Arte Performance
DESCRIPTION:“Join us for laughs as the Gulf Wars Commedia troupe presents their annual Commedia dell’Arte play: The Ceremony! Generational misunderstanding\, young women looking for love\, mistaken identity\, cross-dressing\, and 3 Spanish Captains! (Commedia dell’Arte is a type of 16th century Italian improvised play)”
URL:https://bardic.fun/event/the-ceremony-commedia-dellarte-performance
LOCATION:Performing Arts Tent in Renaissance Village
CATEGORIES:Performances
END:VEVENT
BEGIN:VEVENT
DTSTART;TZID=America/Chicago:20260321T160000
DTEND;TZID=America/Chicago:20260321T163000
DTSTAMP:20260423T051827
CREATED:20260311T041221Z
LAST-MODIFIED:20260311T041221Z
UID:2280-1774108800-1774110600@bardic.fun
SUMMARY:Gulf Wars Waits Instrumental Ensemble Concert
DESCRIPTION:Join us as the Instrumental Ensemble presents a selection of period music that they’ve rehearsed all week! Join us Mon-Fri 2:00 pm – 3:00 pm to perform with us! All instruments welcome!
URL:https://bardic.fun/event/gulf-wars-waits-instrumental-ensemble-concert
LOCATION:Performing Arts Tent in Renaissance Village
CATEGORIES:Performances
END:VEVENT
END:VCALENDAR